Package: agilp Version: 3.39.0 Command: /home/biocbuild/bbs-3.21-bioc/R/bin/R CMD check --install=check:agilp.install-out.txt --library=/home/biocbuild/bbs-3.21-bioc/R/site-library --timings agilp_3.39.0.tar.gz StartedAt: 2025-02-05 19:55:38 -0500 (Wed, 05 Feb 2025) EndedAt: 2025-02-05 19:55:56 -0500 (Wed, 05 Feb 2025) EllapsedTime: 18.0 seconds RetCode: 0 Status: OK CheckDir: agilp.Rcheck Warnings: 0