Package: agilp Version: 3.39.0 Command: /Library/Frameworks/R.framework/Resources/bin/R CMD check --install=check:agilp.install-out.txt --library=/Library/Frameworks/R.framework/Resources/library --no-vignettes --timings agilp_3.39.0.tar.gz StartedAt: 2025-02-05 18:50:35 -0500 (Wed, 05 Feb 2025) EndedAt: 2025-02-05 18:51:01 -0500 (Wed, 05 Feb 2025) EllapsedTime: 26.7 seconds RetCode: 0 Status: OK CheckDir: agilp.Rcheck Warnings: 0