Package: agilp Version: 3.39.0 Command: /Library/Frameworks/R.framework/Resources/bin/R CMD build --keep-empty-dirs --no-resave-data agilp StartedAt: 2025-02-05 15:50:19 -0500 (Wed, 05 Feb 2025) EndedAt: 2025-02-05 15:50:28 -0500 (Wed, 05 Feb 2025) EllapsedTime: 9.2 seconds RetCode: 0 Status: OK PackageFile: agilp_3.39.0.tar.gz PackageFileSize: 452.1 KiB