Package: agilp Version: 3.39.0 Command: /home/biocbuild/R/R/bin/R CMD check --install=check:agilp.install-out.txt --library=/home/biocbuild/R/R/site-library --no-vignettes --timings agilp_3.39.0.tar.gz StartedAt: 2025-01-28 03:27:34 -0000 (Tue, 28 Jan 2025) EndedAt: 2025-01-28 03:27:49 -0000 (Tue, 28 Jan 2025) EllapsedTime: 15.0 seconds RetCode: 0 Status: OK CheckDir: agilp.Rcheck Warnings: 0