Package: agilp Version: 3.39.0 Command: /home/biocbuild/R/R/bin/R CMD build --keep-empty-dirs --no-resave-data agilp StartedAt: 2025-01-29 20:46:34 -0000 (Wed, 29 Jan 2025) EndedAt: 2025-01-29 20:46:40 -0000 (Wed, 29 Jan 2025) EllapsedTime: 6.0 seconds RetCode: 0 Status: OK PackageFile: agilp_3.39.0.tar.gz PackageFileSize: 446.2 KiB