Package: agilp Version: 3.39.0 Command: /Library/Frameworks/R.framework/Resources/bin/R CMD INSTALL agilp StartedAt: 2025-02-05 15:01:03 -0500 (Wed, 05 Feb 2025) EndedAt: 2025-02-05 15:01:08 -0500 (Wed, 05 Feb 2025) EllapsedTime: 4.5 seconds RetCode: 0 Status: OK