Package: agilp Version: 3.39.0 Command: /Library/Frameworks/R.framework/Resources/bin/R CMD build --keep-empty-dirs --no-resave-data agilp StartedAt: 2025-02-03 16:06:37 -0500 (Mon, 03 Feb 2025) EndedAt: 2025-02-03 16:06:41 -0500 (Mon, 03 Feb 2025) EllapsedTime: 4.0 seconds RetCode: 0 Status: OK PackageFile: agilp_3.39.0.tar.gz PackageFileSize: 454.5 KiB