Package: aggregateBioVar Version: 1.19.1 Command: /home/biocbuild/bbs-3.22-bioc/R/bin/R CMD check --install=check:aggregateBioVar.install-out.txt --library=/home/biocbuild/bbs-3.22-bioc/R/site-library --timings aggregateBioVar_1.19.1.tar.gz StartedAt: 2025-10-24 21:03:55 -0400 (Fri, 24 Oct 2025) EndedAt: 2025-10-24 21:07:40 -0400 (Fri, 24 Oct 2025) EllapsedTime: 225.3 seconds RetCode: 0 Status: OK CheckDir: aggregateBioVar.Rcheck Warnings: 0