Package: aggregateBioVar Version: 1.17.0 Command: /Library/Frameworks/R.framework/Resources/bin/R CMD INSTALL aggregateBioVar StartedAt: 2025-02-16 15:12:08 -0500 (Sun, 16 Feb 2025) EndedAt: 2025-02-16 15:12:40 -0500 (Sun, 16 Feb 2025) EllapsedTime: 31.2 seconds RetCode: 0 Status: OK