Package: affylmGUI Version: 1.81.0 Command: E:\biocbuild\bbs-3.21-bioc\R\bin\R.exe CMD check --no-multiarch --install=check:affylmGUI.install-out.txt --library=E:\biocbuild\bbs-3.21-bioc\R\library --no-vignettes --timings affylmGUI_1.81.0.tar.gz StartedAt: 2025-02-03 23:00:16 -0500 (Mon, 03 Feb 2025) EndedAt: 2025-02-03 23:02:16 -0500 (Mon, 03 Feb 2025) EllapsedTime: 120.5 seconds RetCode: 0 Status: OK CheckDir: affylmGUI.Rcheck Warnings: 0