Package: affylmGUI Version: 1.83.0 Command: /home/biocbuild/bbs-3.22-bioc/R/bin/R CMD INSTALL affylmGUI StartedAt: 2025-09-29 15:28:09 -0400 (Mon, 29 Sep 2025) EndedAt: 2025-09-29 15:28:33 -0400 (Mon, 29 Sep 2025) EllapsedTime: 24.3 seconds RetCode: 0 Status: OK