Package: affylmGUI Version: 1.83.0 Command: /home/biocbuild/bbs-3.22-bioc/R/bin/R CMD build --keep-empty-dirs --no-resave-data --md5 affylmGUI StartedAt: 2025-09-29 16:23:37 -0400 (Mon, 29 Sep 2025) EndedAt: 2025-09-29 16:24:08 -0400 (Mon, 29 Sep 2025) EllapsedTime: 30.0 seconds RetCode: 0 Status: OK PackageFile: affylmGUI_1.83.0.tar.gz PackageFileSize: 1.763 MiB