Package: affylmGUI Version: 1.81.0 Command: /home/biocbuild/R/R/bin/R CMD INSTALL affylmGUI StartedAt: 2025-01-29 19:54:06 -0000 (Wed, 29 Jan 2025) EndedAt: 2025-01-29 19:54:36 -0000 (Wed, 29 Jan 2025) EllapsedTime: 29.6 seconds RetCode: 0 Status: OK