Package: affylmGUI Version: 1.81.0 Command: /home/biocbuild/R/R/bin/R CMD check --install=check:affylmGUI.install-out.txt --library=/home/biocbuild/R/R/site-library --no-vignettes --timings affylmGUI_1.81.0.tar.gz StartedAt: 2025-01-28 03:27:12 -0000 (Tue, 28 Jan 2025) EndedAt: 2025-01-28 03:29:19 -0000 (Tue, 28 Jan 2025) EllapsedTime: 127.3 seconds RetCode: 0 Status: OK CheckDir: affylmGUI.Rcheck Warnings: 0