Package: affyio Version: 1.77.3 Command: /home/biocbuild/bbs-3.21-bioc/R/bin/R CMD check --install=check:affyio.install-out.txt --library=/home/biocbuild/bbs-3.21-bioc/R/site-library --timings affyio_1.77.3.tar.gz StartedAt: 2025-02-05 19:55:13 -0500 (Wed, 05 Feb 2025) EndedAt: 2025-02-05 19:55:27 -0500 (Wed, 05 Feb 2025) EllapsedTime: 14.0 seconds RetCode: 0 Status: WARNINGS CheckDir: affyio.Rcheck Warnings: 2