Package: affyio Version: 1.79.0 Command: rm -rf affyio.buildbin-libdir && mkdir affyio.buildbin-libdir && /Users/biocbuild/BBS/utils/build-universal.sh affyio_1.79.0.tar.gz /Library/Frameworks/R.framework/Resources/bin/R affyio.buildbin-libdir StartedAt: 2025-10-16 02:39:34 -0400 (Thu, 16 Oct 2025) EndedAt: 2025-10-16 02:40:10 -0400 (Thu, 16 Oct 2025) EllapsedTime: 35.8 seconds RetCode: 0 Status: OK PackageFile: affyio_1.79.0.tgz PackageFileSize: 100.1 KiB