Package: affycoretools Version: 1.81.1 Command: /home/biocbuild/bbs-3.22-bioc/R/bin/R CMD INSTALL affycoretools StartedAt: 2025-10-01 15:58:35 -0400 (Wed, 01 Oct 2025) EndedAt: 2025-10-01 15:59:55 -0400 (Wed, 01 Oct 2025) EllapsedTime: 79.8 seconds RetCode: 0 Status: OK