Package: affycoretools Version: 1.79.0 Command: /home/biocbuild/bbs-3.21-bioc/R/bin/R CMD INSTALL affycoretools StartedAt: 2025-02-02 15:41:31 -0500 (Sun, 02 Feb 2025) EndedAt: 2025-02-02 15:42:32 -0500 (Sun, 02 Feb 2025) EllapsedTime: 60.5 seconds RetCode: 0 Status: OK