Package: affycomp Version: 1.85.0 Command: F:\biocbuild\bbs-3.22-bioc\R\bin\R.exe CMD INSTALL affycomp StartedAt: 2025-08-14 15:37:55 -0400 (Thu, 14 Aug 2025) EndedAt: 2025-08-14 15:38:23 -0400 (Thu, 14 Aug 2025) EllapsedTime: 28.0 seconds RetCode: 0 Status: OK