Package: affyPLM Version: 1.85.0 Command: /home/biocbuild/bbs-3.22-bioc/R/bin/R CMD build --keep-empty-dirs --no-resave-data --md5 affyPLM StartedAt: 2025-10-05 16:07:30 -0400 (Sun, 05 Oct 2025) EndedAt: 2025-10-05 16:09:11 -0400 (Sun, 05 Oct 2025) EllapsedTime: 101.1 seconds RetCode: 0 Status: OK PackageFile: affyPLM_1.85.0.tar.gz PackageFileSize: 7.159 MiB