Package: affyPLM Version: 1.83.3 Command: /home/biocbuild/bbs-3.21-bioc/R/bin/R CMD build --keep-empty-dirs --no-resave-data affyPLM StartedAt: 2025-02-03 16:15:07 -0500 (Mon, 03 Feb 2025) EndedAt: 2025-02-03 16:16:51 -0500 (Mon, 03 Feb 2025) EllapsedTime: 103.1 seconds RetCode: 0 Status: OK PackageFile: affyPLM_1.83.3.tar.gz PackageFileSize: 7.158 MiB