Package: affyPLM Version: 1.85.0 Command: /Library/Frameworks/R.framework/Resources/bin/R CMD build --keep-empty-dirs --no-resave-data affyPLM StartedAt: 2025-05-06 15:53:35 -0400 (Tue, 06 May 2025) EndedAt: 2025-05-06 15:56:22 -0400 (Tue, 06 May 2025) EllapsedTime: 167.3 seconds RetCode: 0 Status: OK PackageFile: affyPLM_1.85.0.tar.gz PackageFileSize: 6.287 MiB