Package: affyPLM Version: 1.85.0 Command: /Library/Frameworks/R.framework/Resources/bin/R CMD INSTALL affyPLM StartedAt: 2025-04-27 15:07:47 -0400 (Sun, 27 Apr 2025) EndedAt: 2025-04-27 15:07:56 -0400 (Sun, 27 Apr 2025) EllapsedTime: 9.0 seconds RetCode: 0 Status: OK