Package: affyPLM Version: 1.85.0 Command: /Library/Frameworks/R.framework/Resources/bin/R CMD build --keep-empty-dirs --no-resave-data affyPLM StartedAt: 2025-04-28 15:35:30 -0400 (Mon, 28 Apr 2025) EndedAt: 2025-04-28 15:36:55 -0400 (Mon, 28 Apr 2025) EllapsedTime: 85.0 seconds RetCode: 0 Status: OK PackageFile: affyPLM_1.85.0.tar.gz PackageFileSize: 6.291 MiB