Package: affyContam Version: 1.67.0 Command: /home/biocbuild/bbs-3.22-bioc/R/bin/R CMD INSTALL affyContam StartedAt: 2025-10-17 15:56:33 -0400 (Fri, 17 Oct 2025) EndedAt: 2025-10-17 15:56:36 -0400 (Fri, 17 Oct 2025) EllapsedTime: 3.1 seconds RetCode: 0 Status: OK