Package: affyContam Version: 1.67.0 Command: /Library/Frameworks/R.framework/Resources/bin/R CMD check --install=check:affyContam.install-out.txt --library=/Library/Frameworks/R.framework/Resources/library --no-vignettes --timings affyContam_1.67.0.tar.gz StartedAt: 2025-05-09 19:03:26 -0400 (Fri, 09 May 2025) EndedAt: 2025-05-09 19:04:25 -0400 (Fri, 09 May 2025) EllapsedTime: 59.2 seconds RetCode: 0 Status: OK CheckDir: affyContam.Rcheck Warnings: 0