Package: affyContam Version: 1.67.0 Command: /Library/Frameworks/R.framework/Resources/bin/R CMD build --keep-empty-dirs --no-resave-data affyContam StartedAt: 2025-05-09 15:37:06 -0400 (Fri, 09 May 2025) EndedAt: 2025-05-09 15:37:13 -0400 (Fri, 09 May 2025) EllapsedTime: 7.1 seconds RetCode: 0 Status: OK PackageFile: affyContam_1.67.0.tar.gz PackageFileSize: 503.2 KiB