Package: affxparser Version: 1.81.0 Command: chmod a+r affxparser -R && F:\biocbuild\bbs-3.22-bioc\R\bin\R.exe CMD build --keep-empty-dirs --no-resave-data affxparser StartedAt: 2025-08-14 18:21:40 -0400 (Thu, 14 Aug 2025) EndedAt: 2025-08-14 18:22:50 -0400 (Thu, 14 Aug 2025) EllapsedTime: 70.0 seconds RetCode: 0 Status: OK PackageFile: affxparser_1.81.0.tar.gz PackageFileSize: 782.7 KiB