Package: affxparser Version: 1.79.1 Command: chmod a+r affxparser -R && E:\biocbuild\bbs-3.21-bioc\R\bin\R.exe CMD build --keep-empty-dirs --no-resave-data affxparser StartedAt: 2025-02-16 17:03:03 -0500 (Sun, 16 Feb 2025) EndedAt: 2025-02-16 17:04:07 -0500 (Sun, 16 Feb 2025) EllapsedTime: 64.5 seconds RetCode: 0 Status: OK PackageFile: affxparser_1.79.1.tar.gz PackageFileSize: 782.7 KiB