Package: adverSCarial Version: 1.7.1 Command: chmod a+r adverSCarial -R && F:\biocbuild\bbs-3.22-bioc\R\bin\R.exe CMD build --keep-empty-dirs --no-resave-data adverSCarial StartedAt: 2025-08-14 18:21:26 -0400 (Thu, 14 Aug 2025) EndedAt: 2025-08-14 18:22:30 -0400 (Thu, 14 Aug 2025) EllapsedTime: 64.3 seconds RetCode: 0 Status: OK PackageFile: adverSCarial_1.7.1.tar.gz PackageFileSize: 170 KiB