Package: adverSCarial Version: 1.7.1 Command: rm -rf adverSCarial.buildbin-libdir && mkdir adverSCarial.buildbin-libdir && F:\biocbuild\bbs-3.22-bioc\R\bin\R.exe CMD INSTALL --build --library=adverSCarial.buildbin-libdir adverSCarial_1.7.1.tar.gz StartedAt: 2025-08-15 09:41:08 -0400 (Fri, 15 Aug 2025) EndedAt: 2025-08-15 09:41:47 -0400 (Fri, 15 Aug 2025) EllapsedTime: 39.0 seconds RetCode: 0 Status: OK PackageFile: adverSCarial_1.7.1.zip PackageFileSize: 385.8 KiB