Package: adductomicsR Version: 1.25.0 Command: /home/biocbuild/bbs-3.22-bioc/R/bin/R CMD build --keep-empty-dirs --no-resave-data --md5 adductomicsR StartedAt: 2025-10-08 16:28:37 -0400 (Wed, 08 Oct 2025) EndedAt: 2025-10-08 16:30:41 -0400 (Wed, 08 Oct 2025) EllapsedTime: 124.2 seconds RetCode: 0 Status: OK PackageFile: adductomicsR_1.25.0.tar.gz PackageFileSize: 755.1 KiB