Package: adSplit Version: 1.79.0 Command: rm -rf adSplit.buildbin-libdir && mkdir adSplit.buildbin-libdir && F:\biocbuild\bbs-3.22-bioc\R\bin\R.exe CMD INSTALL --build --library=adSplit.buildbin-libdir adSplit_1.79.0.tar.gz StartedAt: 2025-08-15 09:41:08 -0400 (Fri, 15 Aug 2025) EndedAt: 2025-08-15 09:42:04 -0400 (Fri, 15 Aug 2025) EllapsedTime: 55.3 seconds RetCode: 0 Status: OK PackageFile: adSplit_1.79.0.zip PackageFileSize: 358.7 KiB