Package: adSplit Version: 1.77.0 Command: /home/biocbuild/bbs-3.21-bioc/R/bin/R CMD check --install=check:adSplit.install-out.txt --library=/home/biocbuild/bbs-3.21-bioc/R/site-library --timings adSplit_1.77.0.tar.gz StartedAt: 2025-02-16 19:46:57 -0500 (Sun, 16 Feb 2025) EndedAt: 2025-02-16 19:52:26 -0500 (Sun, 16 Feb 2025) EllapsedTime: 329.6 seconds RetCode: 0 Status: OK CheckDir: adSplit.Rcheck Warnings: 0