Package: adSplit Version: 1.77.0 Command: /home/biocbuild/bbs-3.21-bioc/R/bin/R CMD build --keep-empty-dirs --no-resave-data adSplit StartedAt: 2025-02-16 16:10:24 -0500 (Sun, 16 Feb 2025) EndedAt: 2025-02-16 16:12:16 -0500 (Sun, 16 Feb 2025) EllapsedTime: 112.2 seconds RetCode: 0 Status: OK PackageFile: adSplit_1.77.0.tar.gz PackageFileSize: 536.7 KiB