Package: adSplit Version: 1.77.0 Command: /Library/Frameworks/R.framework/Resources/bin/R CMD INSTALL adSplit StartedAt: 2025-02-03 15:40:40 -0500 (Mon, 03 Feb 2025) EndedAt: 2025-02-03 15:41:03 -0500 (Mon, 03 Feb 2025) EllapsedTime: 22.8 seconds RetCode: 0 Status: OK