Package: adSplit Version: 1.77.0 Command: /home/biocbuild/R/R/bin/R CMD INSTALL adSplit StartedAt: 2025-01-29 20:23:32 -0000 (Wed, 29 Jan 2025) EndedAt: 2025-01-29 20:23:55 -0000 (Wed, 29 Jan 2025) EllapsedTime: 22.7 seconds RetCode: 0 Status: OK