Package: acde Version: 1.39.0 Command: /home/biocbuild/bbs-3.22-bioc/R/bin/R CMD INSTALL acde StartedAt: 2025-10-14 15:04:59 -0400 (Tue, 14 Oct 2025) EndedAt: 2025-10-14 15:05:19 -0400 (Tue, 14 Oct 2025) EllapsedTime: 20.6 seconds RetCode: 0 Status: OK