Package: acde Version: 1.39.0 Command: /home/biocbuild/bbs-3.22-bioc/R/bin/R CMD build --keep-empty-dirs --no-resave-data --md5 acde StartedAt: 2025-10-14 16:07:53 -0400 (Tue, 14 Oct 2025) EndedAt: 2025-10-14 16:08:07 -0400 (Tue, 14 Oct 2025) EllapsedTime: 14.0 seconds RetCode: 0 Status: OK PackageFile: acde_1.39.0.tar.gz PackageFileSize: 8.878 MiB