Package: abseqR Version: 1.27.0 Command: rm -rf abseqR.buildbin-libdir && mkdir abseqR.buildbin-libdir && F:\biocbuild\bbs-3.22-bioc\R\bin\R.exe CMD INSTALL --build --library=abseqR.buildbin-libdir abseqR_1.27.0.tar.gz StartedAt: 2025-08-15 09:41:08 -0400 (Fri, 15 Aug 2025) EndedAt: 2025-08-15 09:42:47 -0400 (Fri, 15 Aug 2025) EllapsedTime: 99.2 seconds RetCode: 0 Status: OK PackageFile: abseqR_1.27.0.zip PackageFileSize: 2.239 MiB