Package: aCGH Version: 1.85.0 Command: E:\biocbuild\bbs-3.21-bioc\R\bin\R.exe CMD INSTALL aCGH StartedAt: 2025-02-04 16:35:17 -0500 (Tue, 04 Feb 2025) EndedAt: 2025-02-04 16:35:45 -0500 (Tue, 04 Feb 2025) EllapsedTime: 28.1 seconds RetCode: 0 Status: OK