Package: aCGH Version: 1.85.0 Command: E:\biocbuild\bbs-3.21-bioc\R\bin\R.exe CMD check --no-multiarch --install=check:aCGH.install-out.txt --library=E:\biocbuild\bbs-3.21-bioc\R\library --no-vignettes --timings aCGH_1.85.0.tar.gz StartedAt: 2025-02-04 22:55:02 -0500 (Tue, 04 Feb 2025) EndedAt: 2025-02-04 22:56:41 -0500 (Tue, 04 Feb 2025) EllapsedTime: 98.6 seconds RetCode: 0 Status: OK CheckDir: aCGH.Rcheck Warnings: 0