Package: aCGH Version: 1.85.0 Command: chmod a+r aCGH -R && E:\biocbuild\bbs-3.21-bioc\R\bin\R.exe CMD build --keep-empty-dirs --no-resave-data aCGH StartedAt: 2025-02-04 17:05:36 -0500 (Tue, 04 Feb 2025) EndedAt: 2025-02-04 17:06:27 -0500 (Tue, 04 Feb 2025) EllapsedTime: 51.0 seconds RetCode: 0 Status: OK PackageFile: aCGH_1.85.0.tar.gz PackageFileSize: 2.097 MiB