Package: aCGH Version: 1.85.0 Command: rm -rf aCGH.buildbin-libdir && mkdir aCGH.buildbin-libdir && E:\biocbuild\bbs-3.21-bioc\R\bin\R.exe CMD INSTALL --build --library=aCGH.buildbin-libdir aCGH_1.85.0.tar.gz StartedAt: 2025-02-05 07:22:47 -0500 (Wed, 05 Feb 2025) EndedAt: 2025-02-05 07:23:50 -0500 (Wed, 05 Feb 2025) EllapsedTime: 62.9 seconds RetCode: 0 Status: OK PackageFile: aCGH_1.85.0.zip PackageFileSize: 2.44 MiB