Package: aCGH Version: 1.87.0 Command: /home/biocbuild/bbs-3.22-bioc/R/bin/R CMD INSTALL aCGH StartedAt: 2025-09-30 15:12:35 -0400 (Tue, 30 Sep 2025) EndedAt: 2025-09-30 15:12:46 -0400 (Tue, 30 Sep 2025) EllapsedTime: 11.0 seconds RetCode: 0 Status: OK