Package: aCGH Version: 1.85.0 Command: /home/biocbuild/bbs-3.21-bioc/R/bin/R CMD INSTALL aCGH StartedAt: 2025-02-04 15:10:45 -0500 (Tue, 04 Feb 2025) EndedAt: 2025-02-04 15:10:57 -0500 (Tue, 04 Feb 2025) EllapsedTime: 11.9 seconds RetCode: 0 Status: OK