Package: aCGH Version: 1.85.0 Command: /home/biocbuild/bbs-3.21-bioc/R/bin/R CMD check --install=check:aCGH.install-out.txt --library=/home/biocbuild/bbs-3.21-bioc/R/site-library --timings aCGH_1.85.0.tar.gz StartedAt: 2025-02-04 19:51:55 -0500 (Tue, 04 Feb 2025) EndedAt: 2025-02-04 19:53:15 -0500 (Tue, 04 Feb 2025) EllapsedTime: 80.2 seconds RetCode: 0 Status: OK CheckDir: aCGH.Rcheck Warnings: 0