Package: aCGH Version: 1.85.0 Command: /home/biocbuild/bbs-3.21-bioc/R/bin/R CMD build --keep-empty-dirs --no-resave-data aCGH StartedAt: 2025-02-04 16:04:25 -0500 (Tue, 04 Feb 2025) EndedAt: 2025-02-04 16:04:52 -0500 (Tue, 04 Feb 2025) EllapsedTime: 27.1 seconds RetCode: 0 Status: OK PackageFile: aCGH_1.85.0.tar.gz PackageFileSize: 2.219 MiB