Package: aCGH Version: 1.85.0 Command: /Library/Frameworks/R.framework/Resources/bin/R CMD INSTALL aCGH StartedAt: 2025-02-04 15:34:38 -0500 (Tue, 04 Feb 2025) EndedAt: 2025-02-04 15:34:54 -0500 (Tue, 04 Feb 2025) EllapsedTime: 15.7 seconds RetCode: 0 Status: OK