Package: aCGH Version: 1.85.0 Command: /Library/Frameworks/R.framework/Resources/bin/R CMD build --keep-empty-dirs --no-resave-data aCGH StartedAt: 2025-02-04 15:49:59 -0500 (Tue, 04 Feb 2025) EndedAt: 2025-02-04 15:50:37 -0500 (Tue, 04 Feb 2025) EllapsedTime: 37.9 seconds RetCode: 0 Status: OK PackageFile: aCGH_1.85.0.tar.gz PackageFileSize: 2.217 MiB